BEGIN:VCALENDAR
VERSION:2.0
PRODID:-//BC EPA München - ECPv6.15.20//NONSGML v1.0//EN
CALSCALE:GREGORIAN
METHOD:PUBLISH
X-WR-CALNAME:BC EPA München
X-ORIGINAL-URL:https://bowlingclub-epa.de
X-WR-CALDESC:Veranstaltungen für BC EPA München
REFRESH-INTERVAL;VALUE=DURATION:PT1H
X-Robots-Tag:noindex
X-PUBLISHED-TTL:PT1H
BEGIN:VTIMEZONE
TZID:Europe/Berlin
BEGIN:DAYLIGHT
TZOFFSETFROM:+0100
TZOFFSETTO:+0200
TZNAME:CEST
DTSTART:20250330T010000
END:DAYLIGHT
BEGIN:STANDARD
TZOFFSETFROM:+0200
TZOFFSETTO:+0100
TZNAME:CET
DTSTART:20251026T010000
END:STANDARD
BEGIN:DAYLIGHT
TZOFFSETFROM:+0100
TZOFFSETTO:+0200
TZNAME:CEST
DTSTART:20260329T010000
END:DAYLIGHT
BEGIN:STANDARD
TZOFFSETFROM:+0200
TZOFFSETTO:+0100
TZNAME:CET
DTSTART:20261025T010000
END:STANDARD
BEGIN:DAYLIGHT
TZOFFSETFROM:+0100
TZOFFSETTO:+0200
TZNAME:CEST
DTSTART:20270328T010000
END:DAYLIGHT
BEGIN:STANDARD
TZOFFSETFROM:+0200
TZOFFSETTO:+0100
TZNAME:CET
DTSTART:20271031T010000
END:STANDARD
END:VTIMEZONE
BEGIN:VEVENT
DTSTART;VALUE=DATE:20260627
DTEND;VALUE=DATE:20260705
DTSTAMP:20260423T175420
CREATED:20260112T183531Z
LAST-MODIFIED:20260112T183531Z
UID:1953-1782518400-1783209599@bowlingclub-epa.de
SUMMARY:Deutsche Meisterschaft Männer und Frauen
DESCRIPTION:
URL:https://bowlingclub-epa.de/event/deutsche-meisterschaft-maenner-und-frauen/
LOCATION:Gilde Bowling forty four Hamburg
END:VEVENT
BEGIN:VEVENT
DTSTART;TZID=Europe/Berlin:20260704T090000
DTEND;TZID=Europe/Berlin:20260704T130000
DTSTAMP:20260423T175420
CREATED:20260322T054444Z
LAST-MODIFIED:20260322T054444Z
UID:2052-1783155600-1783170000@bowlingclub-epa.de
SUMMARY:Clubmeisterschaft Dreambowling
DESCRIPTION:
URL:https://bowlingclub-epa.de/event/clubmeisterschaft-dreambowling/
END:VEVENT
BEGIN:VEVENT
DTSTART;VALUE=DATE:20260705
DTEND;VALUE=DATE:20260706
DTSTAMP:20260423T175420
CREATED:20250903T162622Z
LAST-MODIFIED:20250903T162622Z
UID:1559-1783209600-1783295999@bowlingclub-epa.de
SUMMARY:Finale Clubpokal
DESCRIPTION:
URL:https://bowlingclub-epa.de/event/finale-clubpokal/
END:VEVENT
BEGIN:VEVENT
DTSTART;TZID=Europe/Berlin:20260725T140000
DTEND;TZID=Europe/Berlin:20260725T190000
DTSTAMP:20260423T175420
CREATED:20260322T054601Z
LAST-MODIFIED:20260322T054601Z
UID:2054-1784988000-1785006000@bowlingclub-epa.de
SUMMARY:Jahreshauptversammlung EPA
DESCRIPTION:Obermenzing mit Spanferkelessen
URL:https://bowlingclub-epa.de/event/jahreshauptversammlung-epa/
END:VEVENT
END:VCALENDAR