BEGIN:VCALENDAR
VERSION:2.0
PRODID:-//BC EPA München - ECPv6.15.20//NONSGML v1.0//EN
CALSCALE:GREGORIAN
METHOD:PUBLISH
X-ORIGINAL-URL:https://bowlingclub-epa.de
X-WR-CALDESC:Veranstaltungen für BC EPA München
REFRESH-INTERVAL;VALUE=DURATION:PT1H
X-Robots-Tag:noindex
X-PUBLISHED-TTL:PT1H
BEGIN:VTIMEZONE
TZID:Europe/Berlin
BEGIN:DAYLIGHT
TZOFFSETFROM:+0100
TZOFFSETTO:+0200
TZNAME:CEST
DTSTART:20250330T010000
END:DAYLIGHT
BEGIN:STANDARD
TZOFFSETFROM:+0200
TZOFFSETTO:+0100
TZNAME:CET
DTSTART:20251026T010000
END:STANDARD
BEGIN:DAYLIGHT
TZOFFSETFROM:+0100
TZOFFSETTO:+0200
TZNAME:CEST
DTSTART:20260329T010000
END:DAYLIGHT
BEGIN:STANDARD
TZOFFSETFROM:+0200
TZOFFSETTO:+0100
TZNAME:CET
DTSTART:20261025T010000
END:STANDARD
BEGIN:DAYLIGHT
TZOFFSETFROM:+0100
TZOFFSETTO:+0200
TZNAME:CEST
DTSTART:20270328T010000
END:DAYLIGHT
BEGIN:STANDARD
TZOFFSETFROM:+0200
TZOFFSETTO:+0100
TZNAME:CET
DTSTART:20271031T010000
END:STANDARD
END:VTIMEZONE
BEGIN:VEVENT
DTSTART;VALUE=DATE:20260503
DTEND;VALUE=DATE:20260504
DTSTAMP:20260423T143438
CREATED:20250903T170231Z
LAST-MODIFIED:20250903T170231Z
UID:1609-1777766400-1777852799@bowlingclub-epa.de
SUMMARY:EPA 2 Herren Bezirksliga Süd 1
DESCRIPTION:Max Munich
URL:https://bowlingclub-epa.de/event/epa-2-herren-bezirksliga-sued-1-5/
END:VEVENT
BEGIN:VEVENT
DTSTART;VALUE=DATE:20260503
DTEND;VALUE=DATE:20260504
DTSTAMP:20260423T143438
CREATED:20250903T171035Z
LAST-MODIFIED:20250903T171055Z
UID:1621-1777766400-1777852799@bowlingclub-epa.de
SUMMARY:EPA 3 Herren Bezirksliga Süd 2
DESCRIPTION:Dream Bowl
URL:https://bowlingclub-epa.de/event/epa-3-herren-bezirksliga-sued-2-5/
END:VEVENT
BEGIN:VEVENT
DTSTART;VALUE=DATE:20260503
DTEND;VALUE=DATE:20260504
DTSTAMP:20260423T143438
CREATED:20250903T171715Z
LAST-MODIFIED:20250903T171715Z
UID:1633-1777766400-1777852799@bowlingclub-epa.de
SUMMARY:EPA 1 Herren Bezirksoberliga Süd 2
DESCRIPTION:Dream Bowl
URL:https://bowlingclub-epa.de/event/epa-1-herren-bezirksoberliga-sued-2-5/
END:VEVENT
BEGIN:VEVENT
DTSTART;VALUE=DATE:20260503
DTEND;VALUE=DATE:20260504
DTSTAMP:20260423T143438
CREATED:20250903T172241Z
LAST-MODIFIED:20250903T172241Z
UID:1647-1777766400-1777852799@bowlingclub-epa.de
SUMMARY:EPA 2 Damen Landesliga Süd
DESCRIPTION:Max Munich
URL:https://bowlingclub-epa.de/event/epa-2-damen-landesliga-sued-6/
END:VEVENT
BEGIN:VEVENT
DTSTART;VALUE=DATE:20260503
DTEND;VALUE=DATE:20260504
DTSTAMP:20260423T143438
CREATED:20250903T172726Z
LAST-MODIFIED:20250903T172726Z
UID:1659-1777766400-1777852799@bowlingclub-epa.de
SUMMARY:EPA 4 Herren Kreisliga Süd 2
DESCRIPTION:Dream Bowl
URL:https://bowlingclub-epa.de/event/epa-4-herren-kreisliga-sued-2-5/
END:VEVENT
BEGIN:VEVENT
DTSTART;VALUE=DATE:20260509
DTEND;VALUE=DATE:20260511
DTSTAMP:20260423T143438
CREATED:20260419T072408Z
LAST-MODIFIED:20260419T072408Z
UID:2197-1778284800-1778457599@bowlingclub-epa.de
SUMMARY:Bayerische Einzel Frauen Rottendorf
DESCRIPTION:
URL:https://bowlingclub-epa.de/event/bayerische-einzel-frauen-rottendorf/
END:VEVENT
BEGIN:VEVENT
DTSTART;VALUE=DATE:20260517
DTEND;VALUE=DATE:20260518
DTSTAMP:20260423T143438
CREATED:20250903T170341Z
LAST-MODIFIED:20250903T170405Z
UID:1611-1778976000-1779062399@bowlingclub-epa.de
SUMMARY:EPA 2 Herren Bezirksliga Süd 1
DESCRIPTION:Dream Bowl
URL:https://bowlingclub-epa.de/event/epa-2-herren-bezirksliga-sued-1-6/
END:VEVENT
BEGIN:VEVENT
DTSTART;VALUE=DATE:20260517
DTEND;VALUE=DATE:20260518
DTSTAMP:20260423T143438
CREATED:20250903T171136Z
LAST-MODIFIED:20250903T171136Z
UID:1623-1778976000-1779062399@bowlingclub-epa.de
SUMMARY:EPA 3 Herren Bezirksliga Süd 2
DESCRIPTION:Dream Bowl
URL:https://bowlingclub-epa.de/event/epa-3-herren-bezirksliga-sued-2-6/
END:VEVENT
BEGIN:VEVENT
DTSTART;VALUE=DATE:20260517
DTEND;VALUE=DATE:20260518
DTSTAMP:20260423T143438
CREATED:20250903T171801Z
LAST-MODIFIED:20250903T171814Z
UID:1635-1778976000-1779062399@bowlingclub-epa.de
SUMMARY:EPA 1 Herren Bezirksoberliga Süd 2
DESCRIPTION:Dream Bowl
URL:https://bowlingclub-epa.de/event/epa-1-herren-bezirksoberliga-sued-2-6/
END:VEVENT
BEGIN:VEVENT
DTSTART;VALUE=DATE:20260517
DTEND;VALUE=DATE:20260518
DTSTAMP:20260423T143438
CREATED:20250903T172325Z
LAST-MODIFIED:20250903T172416Z
UID:1649-1778976000-1779062399@bowlingclub-epa.de
SUMMARY:EPA 2 Damen Landesliga Süd
DESCRIPTION:Dream Bowl
URL:https://bowlingclub-epa.de/event/epa-2-damen-landesliga-sued-7/
END:VEVENT
BEGIN:VEVENT
DTSTART;VALUE=DATE:20260517
DTEND;VALUE=DATE:20260518
DTSTAMP:20260423T143438
CREATED:20250903T172758Z
LAST-MODIFIED:20250903T172758Z
UID:1661-1778976000-1779062399@bowlingclub-epa.de
SUMMARY:EPA 4 Herren Kreisliga Süd 2
DESCRIPTION:Max Munich
URL:https://bowlingclub-epa.de/event/epa-4-herren-kreisliga-sued-2-6/
END:VEVENT
BEGIN:VEVENT
DTSTART;VALUE=DATE:20260531
DTEND;VALUE=DATE:20260608
DTSTAMP:20260423T143438
CREATED:20260112T183416Z
LAST-MODIFIED:20260112T183416Z
UID:1950-1780185600-1780876799@bowlingclub-epa.de
SUMMARY:Deutsche Meisterschaft Senioren Einzel / Trio
DESCRIPTION:
URL:https://bowlingclub-epa.de/event/deutsche-meisterschaft-senioren-einzel-trio/
LOCATION:Felix Bowling Ludwigshafen
END:VEVENT
END:VCALENDAR