BEGIN:VCALENDAR
VERSION:2.0
PRODID:-//BC EPA München - ECPv6.15.20//NONSGML v1.0//EN
CALSCALE:GREGORIAN
METHOD:PUBLISH
X-WR-CALNAME:BC EPA München
X-ORIGINAL-URL:https://bowlingclub-epa.de
X-WR-CALDESC:Veranstaltungen für BC EPA München
REFRESH-INTERVAL;VALUE=DURATION:PT1H
X-Robots-Tag:noindex
X-PUBLISHED-TTL:PT1H
BEGIN:VTIMEZONE
TZID:Europe/Berlin
BEGIN:DAYLIGHT
TZOFFSETFROM:+0100
TZOFFSETTO:+0200
TZNAME:CEST
DTSTART:20250330T010000
END:DAYLIGHT
BEGIN:STANDARD
TZOFFSETFROM:+0200
TZOFFSETTO:+0100
TZNAME:CET
DTSTART:20251026T010000
END:STANDARD
BEGIN:DAYLIGHT
TZOFFSETFROM:+0100
TZOFFSETTO:+0200
TZNAME:CEST
DTSTART:20260329T010000
END:DAYLIGHT
BEGIN:STANDARD
TZOFFSETFROM:+0200
TZOFFSETTO:+0100
TZNAME:CET
DTSTART:20261025T010000
END:STANDARD
BEGIN:DAYLIGHT
TZOFFSETFROM:+0100
TZOFFSETTO:+0200
TZNAME:CEST
DTSTART:20270328T010000
END:DAYLIGHT
BEGIN:STANDARD
TZOFFSETFROM:+0200
TZOFFSETTO:+0100
TZNAME:CET
DTSTART:20271031T010000
END:STANDARD
END:VTIMEZONE
BEGIN:VEVENT
DTSTART;VALUE=DATE:20260207
DTEND;VALUE=DATE:20260209
DTSTAMP:20260423T163007
CREATED:20250903T173353Z
LAST-MODIFIED:20250903T173353Z
UID:1669-1770422400-1770595199@bowlingclub-epa.de
SUMMARY:EPA 1 Damen Bayernliga
DESCRIPTION:Regensburg Super Bowl
URL:https://bowlingclub-epa.de/event/epa-1-damen-bayernliga-4/
END:VEVENT
BEGIN:VEVENT
DTSTART;VALUE=DATE:20260213
DTEND;VALUE=DATE:20260216
DTSTAMP:20260423T163007
CREATED:20260112T182832Z
LAST-MODIFIED:20260112T182832Z
UID:1940-1770940800-1771199999@bowlingclub-epa.de
SUMMARY:Bayerische Mixed
DESCRIPTION:
URL:https://bowlingclub-epa.de/event/bayerische-mixed/
LOCATION:Westbowling Nürnberg
END:VEVENT
BEGIN:VEVENT
DTSTART;VALUE=DATE:20260221
DTEND;VALUE=DATE:20260223
DTSTAMP:20260423T163007
CREATED:20260112T182924Z
LAST-MODIFIED:20260112T182924Z
UID:1942-1771632000-1771804799@bowlingclub-epa.de
SUMMARY:Bayerische Doppel Männer und Frauen
DESCRIPTION:
URL:https://bowlingclub-epa.de/event/bayerische-doppel-maenner-und-frauen/
LOCATION:Dreambowling\, Apianstraße 9\, Unterföhring\, Deutschland\, 85774
END:VEVENT
BEGIN:VEVENT
DTSTART;VALUE=DATE:20260228
DTEND;VALUE=DATE:20260302
DTSTAMP:20260423T163007
CREATED:20250903T173449Z
LAST-MODIFIED:20250903T173449Z
UID:1671-1772236800-1772409599@bowlingclub-epa.de
SUMMARY:EPA 1 Damen Bayernliga
DESCRIPTION:Regensburg Super Bowl
URL:https://bowlingclub-epa.de/event/epa-1-damen-bayernliga-5/
END:VEVENT
END:VCALENDAR