BEGIN:VCALENDAR
VERSION:2.0
PRODID:-//BC EPA München - ECPv6.15.20//NONSGML v1.0//EN
CALSCALE:GREGORIAN
METHOD:PUBLISH
X-ORIGINAL-URL:https://bowlingclub-epa.de
X-WR-CALDESC:Veranstaltungen für BC EPA München
REFRESH-INTERVAL;VALUE=DURATION:PT1H
X-Robots-Tag:noindex
X-PUBLISHED-TTL:PT1H
BEGIN:VTIMEZONE
TZID:Europe/Berlin
BEGIN:DAYLIGHT
TZOFFSETFROM:+0100
TZOFFSETTO:+0200
TZNAME:CEST
DTSTART:20240331T010000
END:DAYLIGHT
BEGIN:STANDARD
TZOFFSETFROM:+0200
TZOFFSETTO:+0100
TZNAME:CET
DTSTART:20241027T010000
END:STANDARD
BEGIN:DAYLIGHT
TZOFFSETFROM:+0100
TZOFFSETTO:+0200
TZNAME:CEST
DTSTART:20250330T010000
END:DAYLIGHT
BEGIN:STANDARD
TZOFFSETFROM:+0200
TZOFFSETTO:+0100
TZNAME:CET
DTSTART:20251026T010000
END:STANDARD
BEGIN:DAYLIGHT
TZOFFSETFROM:+0100
TZOFFSETTO:+0200
TZNAME:CEST
DTSTART:20260329T010000
END:DAYLIGHT
BEGIN:STANDARD
TZOFFSETFROM:+0200
TZOFFSETTO:+0100
TZNAME:CET
DTSTART:20261025T010000
END:STANDARD
END:VTIMEZONE
BEGIN:VEVENT
DTSTART;TZID=Europe/Berlin:20250904T080000
DTEND;TZID=Europe/Berlin:20250907T170000
DTSTAMP:20260424T021101
CREATED:20250430T082842Z
LAST-MODIFIED:20250430T082905Z
UID:1091-1756972800-1757264400@bowlingclub-epa.de
SUMMARY:44 Saison Eröffnungsturnier
DESCRIPTION:
URL:https://bowlingclub-epa.de/event/44-saison-eroeffnungsturnier/
LOCATION:Isar Bowling
END:VEVENT
BEGIN:VEVENT
DTSTART;TZID=Europe/Berlin:20250905T080000
DTEND;TZID=Europe/Berlin:20250907T170000
DTSTAMP:20260424T021101
CREATED:20250430T083008Z
LAST-MODIFIED:20250430T083359Z
UID:1094-1757059200-1757264400@bowlingclub-epa.de
SUMMARY:Senioren Städtevergleich Wien
DESCRIPTION:
URL:https://bowlingclub-epa.de/event/senioren-staedtevergleich-wien/
LOCATION:Wien
END:VEVENT
BEGIN:VEVENT
DTSTART;TZID=Europe/Berlin:20250912T080000
DTEND;TZID=Europe/Berlin:20250914T170000
DTSTAMP:20260424T021101
CREATED:20250518T175218Z
LAST-MODIFIED:20250518T175218Z
UID:1379-1757664000-1757869200@bowlingclub-epa.de
SUMMARY:5.West Bowling Eliminator
DESCRIPTION:
URL:https://bowlingclub-epa.de/event/5-west-bowling-eliminator/
END:VEVENT
BEGIN:VEVENT
DTSTART;VALUE=DATE:20250921
DTEND;VALUE=DATE:20250922
DTSTAMP:20260424T021101
CREATED:20250224T183437Z
LAST-MODIFIED:20250224T183548Z
UID:552-1758412800-1758499199@bowlingclub-epa.de
SUMMARY:Münchner Senioren Doppel-Mixed
DESCRIPTION:
URL:https://bowlingclub-epa.de/event/staedtevergleich-wien/
END:VEVENT
BEGIN:VEVENT
DTSTART;VALUE=DATE:20250921
DTEND;VALUE=DATE:20250922
DTSTAMP:20260424T021101
CREATED:20250903T170453Z
LAST-MODIFIED:20250903T170453Z
UID:1613-1758412800-1758499199@bowlingclub-epa.de
SUMMARY:EPA 3 Herren Bezirksliga Süd 2
DESCRIPTION:Max Munich
URL:https://bowlingclub-epa.de/event/epa-3-herren-bezirksliga-sued-2/
END:VEVENT
BEGIN:VEVENT
DTSTART;VALUE=DATE:20250921
DTEND;VALUE=DATE:20250922
DTSTAMP:20260424T021101
CREATED:20250903T171235Z
LAST-MODIFIED:20250903T171235Z
UID:1625-1758412800-1758499199@bowlingclub-epa.de
SUMMARY:EPA 1 Herren Bezirksoberliga Süd 2
DESCRIPTION:Dream Bowl
URL:https://bowlingclub-epa.de/event/epa-1-herren-bezirksoberliga-sued-2/
END:VEVENT
BEGIN:VEVENT
DTSTART;VALUE=DATE:20250921
DTEND;VALUE=DATE:20250922
DTSTAMP:20260424T021101
CREATED:20250903T171907Z
LAST-MODIFIED:20250903T171907Z
UID:1637-1758412800-1758499199@bowlingclub-epa.de
SUMMARY:EPA 2 Damen Landesliga Süd
DESCRIPTION:Dream Bowl
URL:https://bowlingclub-epa.de/event/epa-2-damen-landesliga-sued/
END:VEVENT
BEGIN:VEVENT
DTSTART;VALUE=DATE:20250921
DTEND;VALUE=DATE:20250922
DTSTAMP:20260424T021101
CREATED:20250903T172525Z
LAST-MODIFIED:20250903T172525Z
UID:1651-1758412800-1758499199@bowlingclub-epa.de
SUMMARY:EPA 4 Herren Kreisliga Süd 2
DESCRIPTION:Dream Bowl
URL:https://bowlingclub-epa.de/event/epa-4-herren-kreisliga-sued-2/
END:VEVENT
BEGIN:VEVENT
DTSTART;VALUE=DATE:20250927
DTEND;VALUE=DATE:20250929
DTSTAMP:20260424T021101
CREATED:20250903T173158Z
LAST-MODIFIED:20250903T173158Z
UID:1663-1758931200-1759103999@bowlingclub-epa.de
SUMMARY:EPA 1 Damen Bayernliga
DESCRIPTION:Schweinfurt Extrem Bowling
URL:https://bowlingclub-epa.de/event/epa-1-damen-bayernliga/
END:VEVENT
BEGIN:VEVENT
DTSTART;TZID=Europe/Berlin:20250927T110000
DTEND;TZID=Europe/Berlin:20250927T140000
DTSTAMP:20260424T021101
CREATED:20250224T183633Z
LAST-MODIFIED:20250224T183633Z
UID:556-1758970800-1758981600@bowlingclub-epa.de
SUMMARY:Seniorentraining Dreambowling
DESCRIPTION:
URL:https://bowlingclub-epa.de/event/seniorentraining-dreambowling-10/
END:VEVENT
END:VCALENDAR