BEGIN:VCALENDAR
VERSION:2.0
PRODID:-//BC EPA München - ECPv6.15.20//NONSGML v1.0//EN
CALSCALE:GREGORIAN
METHOD:PUBLISH
X-WR-CALNAME:BC EPA München
X-ORIGINAL-URL:https://bowlingclub-epa.de
X-WR-CALDESC:Veranstaltungen für BC EPA München
REFRESH-INTERVAL;VALUE=DURATION:PT1H
X-Robots-Tag:noindex
X-PUBLISHED-TTL:PT1H
BEGIN:VTIMEZONE
TZID:Europe/Berlin
BEGIN:DAYLIGHT
TZOFFSETFROM:+0100
TZOFFSETTO:+0200
TZNAME:CEST
DTSTART:20240331T010000
END:DAYLIGHT
BEGIN:STANDARD
TZOFFSETFROM:+0200
TZOFFSETTO:+0100
TZNAME:CET
DTSTART:20241027T010000
END:STANDARD
BEGIN:DAYLIGHT
TZOFFSETFROM:+0100
TZOFFSETTO:+0200
TZNAME:CEST
DTSTART:20250330T010000
END:DAYLIGHT
BEGIN:STANDARD
TZOFFSETFROM:+0200
TZOFFSETTO:+0100
TZNAME:CET
DTSTART:20251026T010000
END:STANDARD
BEGIN:DAYLIGHT
TZOFFSETFROM:+0100
TZOFFSETTO:+0200
TZNAME:CEST
DTSTART:20260329T010000
END:DAYLIGHT
BEGIN:STANDARD
TZOFFSETFROM:+0200
TZOFFSETTO:+0100
TZNAME:CET
DTSTART:20261025T010000
END:STANDARD
END:VTIMEZONE
BEGIN:VEVENT
DTSTART;TZID=Europe/Berlin:20250731T080000
DTEND;TZID=Europe/Berlin:20250803T170000
DTSTAMP:20260424T040237
CREATED:20250430T082602Z
LAST-MODIFIED:20250430T082602Z
UID:1086-1753948800-1754240400@bowlingclub-epa.de
SUMMARY:MMB Sommercup
DESCRIPTION:
URL:https://bowlingclub-epa.de/event/mmb-sommercup/
LOCATION:Max Bowling Brunnthal
END:VEVENT
BEGIN:VEVENT
DTSTART;TZID=Europe/Berlin:20250807T080000
DTEND;TZID=Europe/Berlin:20250810T170000
DTSTAMP:20260424T040237
CREATED:20250430T082710Z
LAST-MODIFIED:20250430T082710Z
UID:1089-1754553600-1754845200@bowlingclub-epa.de
SUMMARY:Deutschlandcup der Senioren
DESCRIPTION:
URL:https://bowlingclub-epa.de/event/deutschlandcup-der-senioren/
LOCATION:Super Bowl Regensburg
END:VEVENT
BEGIN:VEVENT
DTSTART;TZID=Europe/Berlin:20250809T110000
DTEND;TZID=Europe/Berlin:20250809T140000
DTSTAMP:20260424T040237
CREATED:20250224T183115Z
LAST-MODIFIED:20250224T183303Z
UID:545-1754737200-1754748000@bowlingclub-epa.de
SUMMARY:Seniorentraining Dreambowling
DESCRIPTION:
URL:https://bowlingclub-epa.de/event/seniorentraining-dreambowling-8/
END:VEVENT
BEGIN:VEVENT
DTSTART;TZID=Europe/Berlin:20250823T110000
DTEND;TZID=Europe/Berlin:20250823T140000
DTSTAMP:20260424T040237
CREATED:20250224T183343Z
LAST-MODIFIED:20250224T183343Z
UID:550-1755946800-1755957600@bowlingclub-epa.de
SUMMARY:Seniorentraining Dreambowling
DESCRIPTION:
URL:https://bowlingclub-epa.de/event/seniorentraining-dreambowling-9/
END:VEVENT
END:VCALENDAR