BEGIN:VCALENDAR
VERSION:2.0
PRODID:-//BC EPA München - ECPv6.15.20//NONSGML v1.0//EN
CALSCALE:GREGORIAN
METHOD:PUBLISH
X-WR-CALNAME:BC EPA München
X-ORIGINAL-URL:https://bowlingclub-epa.de
X-WR-CALDESC:Veranstaltungen für BC EPA München
REFRESH-INTERVAL;VALUE=DURATION:PT1H
X-Robots-Tag:noindex
X-PUBLISHED-TTL:PT1H
BEGIN:VTIMEZONE
TZID:Europe/Berlin
BEGIN:DAYLIGHT
TZOFFSETFROM:+0100
TZOFFSETTO:+0200
TZNAME:CEST
DTSTART:20240331T010000
END:DAYLIGHT
BEGIN:STANDARD
TZOFFSETFROM:+0200
TZOFFSETTO:+0100
TZNAME:CET
DTSTART:20241027T010000
END:STANDARD
BEGIN:DAYLIGHT
TZOFFSETFROM:+0100
TZOFFSETTO:+0200
TZNAME:CEST
DTSTART:20250330T010000
END:DAYLIGHT
BEGIN:STANDARD
TZOFFSETFROM:+0200
TZOFFSETTO:+0100
TZNAME:CET
DTSTART:20251026T010000
END:STANDARD
BEGIN:DAYLIGHT
TZOFFSETFROM:+0100
TZOFFSETTO:+0200
TZNAME:CEST
DTSTART:20260329T010000
END:DAYLIGHT
BEGIN:STANDARD
TZOFFSETFROM:+0200
TZOFFSETTO:+0100
TZNAME:CET
DTSTART:20261025T010000
END:STANDARD
END:VTIMEZONE
BEGIN:VEVENT
DTSTART;VALUE=DATE:20250405
DTEND;VALUE=DATE:20250407
DTSTAMP:20260424T112408
CREATED:20250224T173917Z
LAST-MODIFIED:20250224T173920Z
UID:492-1743811200-1743983999@bowlingclub-epa.de
SUMMARY:Bayernligastart Schweinfurth
DESCRIPTION:
URL:https://bowlingclub-epa.de/event/bayernligastart-schweinfurth/
END:VEVENT
BEGIN:VEVENT
DTSTART;VALUE=DATE:20250406
DTEND;VALUE=DATE:20250407
DTSTAMP:20260424T112408
CREATED:20250224T174651Z
LAST-MODIFIED:20250224T174651Z
UID:497-1743897600-1743983999@bowlingclub-epa.de
SUMMARY:Landesliga Damen Maxbowling
DESCRIPTION:
URL:https://bowlingclub-epa.de/event/landesliga-damen-maxbowling/
END:VEVENT
BEGIN:VEVENT
DTSTART;VALUE=DATE:20250406
DTEND;VALUE=DATE:20250407
DTSTAMP:20260424T112408
CREATED:20250224T175912Z
LAST-MODIFIED:20250224T175916Z
UID:511-1743897600-1743983999@bowlingclub-epa.de
SUMMARY:Bezirksoberliga Süd 2 Männer (EPA 1) Dreambowling
DESCRIPTION:
URL:https://bowlingclub-epa.de/event/bezirksoberliga-sued-2-maenner-epa-1-dreambowling/
END:VEVENT
BEGIN:VEVENT
DTSTART;VALUE=DATE:20250406
DTEND;VALUE=DATE:20250407
DTSTAMP:20260424T112408
CREATED:20250224T180612Z
LAST-MODIFIED:20250224T180615Z
UID:517-1743897600-1743983999@bowlingclub-epa.de
SUMMARY:Kreisliga Süd 2 Männer (EPA 3\, 4) Dreambowling
DESCRIPTION:
URL:https://bowlingclub-epa.de/event/kreisliga-sued-2-maenner-epa-3-4-dreambowling/
END:VEVENT
BEGIN:VEVENT
DTSTART;TZID=Europe/Berlin:20250412T113000
DTEND;TZID=Europe/Berlin:20250412T140000
DTSTAMP:20260424T112408
CREATED:20250224T182625Z
LAST-MODIFIED:20250224T182625Z
UID:533-1744457400-1744466400@bowlingclub-epa.de
SUMMARY:Seniorentraining Dreambowling
DESCRIPTION:
URL:https://bowlingclub-epa.de/event/seniorentraining-dreambowling-3/
END:VEVENT
BEGIN:VEVENT
DTSTART;VALUE=DATE:20250413
DTEND;VALUE=DATE:20250414
DTSTAMP:20260424T112408
CREATED:20250224T175411Z
LAST-MODIFIED:20250224T175411Z
UID:504-1744502400-1744588799@bowlingclub-epa.de
SUMMARY:Bezirksoberliga Süd 1 Männer (EPA 2) Ingolstadt
DESCRIPTION:
URL:https://bowlingclub-epa.de/event/bezirksoberliga-sued-1-maenner-epa-2-ingolstadt/
END:VEVENT
BEGIN:VEVENT
DTSTART;TZID=Europe/Berlin:20250426T113000
DTEND;TZID=Europe/Berlin:20250426T140000
DTSTAMP:20260424T112408
CREATED:20250224T182702Z
LAST-MODIFIED:20250224T182702Z
UID:535-1745667000-1745676000@bowlingclub-epa.de
SUMMARY:Seniorentraining Dreambowling
DESCRIPTION:
URL:https://bowlingclub-epa.de/event/seniorentraining-dreambowling-4/
END:VEVENT
BEGIN:VEVENT
DTSTART;VALUE=DATE:20250427
DTEND;VALUE=DATE:20250428
DTSTAMP:20260424T112408
CREATED:20250224T175955Z
LAST-MODIFIED:20250224T180005Z
UID:513-1745712000-1745798399@bowlingclub-epa.de
SUMMARY:Bezirksoberliga Süd 2 Männer (EPA 1) Hollywood
DESCRIPTION:
URL:https://bowlingclub-epa.de/event/bezirksoberliga-sued-2-maenner-epa-1-hollywood/
END:VEVENT
END:VCALENDAR